BEGIN:VCALENDAR
VERSION:2.0
PRODID:-//HBCU Entrepreneur&#039;s Week - ECPv6.3.0//NONSGML v1.0//EN
CALSCALE:GREGORIAN
METHOD:PUBLISH
X-ORIGINAL-URL:https://hbcueweek.com
X-WR-CALDESC:Events for HBCU Entrepreneur&#039;s Week
REFRESH-INTERVAL;VALUE=DURATION:PT1H
X-Robots-Tag:noindex
X-PUBLISHED-TTL:PT1H
BEGIN:VTIMEZONE
TZID:America/Chicago
BEGIN:DAYLIGHT
TZOFFSETFROM:-0600
TZOFFSETTO:-0500
TZNAME:CDT
DTSTART:20240310T080000
END:DAYLIGHT
BEGIN:STANDARD
TZOFFSETFROM:-0500
TZOFFSETTO:-0600
TZNAME:CST
DTSTART:20241103T070000
END:STANDARD
END:VTIMEZONE
BEGIN:VEVENT
DTSTART;TZID=America/Chicago:20240111T080000
DTEND;TZID=America/Chicago:20240119T235900
DTSTAMP:20260420T195329
CREATED:20240104T090540Z
LAST-MODIFIED:20240104T230507Z
UID:1216-1704960000-1705708740@hbcueweek.com
SUMMARY:Rising Stars Pitch Competition - Round 1 Application Due
DESCRIPTION:The RISING STARS Pitch Competition is part of the 4th Edition of HBCU Entrepreneur’s Week which this time is hosted by the Entrepreneurship Institute at Xavier University of Louisiana in collaboration with Entrepreneurship For Everyone. \nWHO SHOULD APPLY \nWe encourage all aspiring and current entrepreneurs who have identified the business idea that you want to pursue as well as founders and startups that are already generating revenue to apply. To ensure a fun\, fair\, and rewarding experience for everyone we are offering two (2) Tracks. \nELIGIBILITY \nTrack 1: Students from ALL HBCUs\nTrack 2: HBCU Alumni and Greater New Orleans based Minority Owned Businesses
URL:https://hbcueweek.com/events-calendar/rising-stars-pitch-competition-round-1-due-date/
ATTACH;FMTTYPE=image/png:https://hbcueweek.com/wp-content/uploads/2024/01/Rising-Stars-Pitch-Competition-Launch.png
ORGANIZER;CN="XULA Entrepreneurship Institute":MAILTO:mquinn@xula.edu
END:VEVENT
END:VCALENDAR